BEGIN:VCALENDAR
VERSION:2.0
CALSCALE:GREGORIAN
PRODID:-//Diputació de Barcelona//DibaCMS//EN
BEGIN:VEVENT
UID:3822
DTSTAMP:20260423T143400
DTSTART:20181209T183000
DTEND:20181209T200000
SUMMARY:30ª Mostra Teatre - Principi d'Arquimedes
LOCATION:C/ Josep Fornell, s/n 08231 Ullastrell
METHOD:PUBLISH
X-WR-CALNAME:ullastrell@ullastrell.cat
X-WR-TIMEZONE:Europe/Madrid
DESCRIPTION:Obra de teatre inclosa dins la Mostra.

Org. GATU

URI:https://www.ullastrell.cat/actualitat/agenda/30a-mostra-teatre-principi-darquimedes.html
CLASS:PUBLIC
END:VEVENT
END:VCALENDAR
