BEGIN:VCALENDAR
VERSION:2.0
CALSCALE:GREGORIAN
PRODID:-//Diputació de Barcelona//DibaCMS//EN
BEGIN:VEVENT
UID:3830
DTSTAMP:20260422T174950
DTSTART:20181114T200000
DTEND:20181114T203000
SUMMARY:Ple extraordinari 14 de novembre
LOCATION:
METHOD:PUBLISH
X-WR-CALNAME:ullastrell@ullastrell.cat
X-WR-TIMEZONE:Europe/Madrid
DESCRIPTION:Tipus de convocatòria: Extraordinària
Data i hora. 14 / de novembre / 2018 a les 20:00
Lloc: Sala de Plens
 

URI:https://www.ullastrell.cat/actualitat/agenda/ple-extraordinari-14-de-novembre.html
CLASS:PUBLIC
END:VEVENT
END:VCALENDAR
