BEGIN:VCALENDAR
VERSION:2.0
CALSCALE:GREGORIAN
PRODID:-//Diputació de Barcelona//DibaCMS//EN
BEGIN:VEVENT
UID:3831
DTSTAMP:20260422T120012
DTSTART:20181114T170000
DTEND:20181114T180000
SUMMARY:Hora del conte
LOCATION:
METHOD:PUBLISH
X-WR-CALNAME:ullastrell@ullastrell.cat
X-WR-TIMEZONE:Europe/Madrid
DESCRIPTION:De quin Planeta ets, Anna Tarambana?

URI:https://www.ullastrell.cat/actualitat/agenda/3831-hora-del-conte.html
CLASS:PUBLIC
END:VEVENT
END:VCALENDAR
