BEGIN:VCALENDAR
VERSION:2.0
CALSCALE:GREGORIAN
PRODID:-//Diputació de Barcelona//DibaCMS//EN
BEGIN:VEVENT
UID:3833
DTSTAMP:20260423T023702
DTSTART:20181201T163000
DTEND:20181202T163000
SUMMARY:VIII Pujada DOGA Sta. Mª de Vilalba - Ullastrell
LOCATION:
METHOD:PUBLISH
X-WR-CALNAME:ullastrell@ullastrell.cat
X-WR-TIMEZONE:Europe/Madrid
DESCRIPTION:Aquest cap de setmana se celebra la mítica Pujada El Suro, un ral·li de muntanya de vehicles de competició.

Org. C.E. +Gas Factory Marc Gené

URI:https://www.ullastrell.cat/actualitat/agenda/viii-pujada-doga-sta-ma-de-vilalba-ullastrell.html
CLASS:PUBLIC
END:VEVENT
END:VCALENDAR
