BEGIN:VCALENDAR
VERSION:2.0
CALSCALE:GREGORIAN
PRODID:-//Diputació de Barcelona//DibaCMS//EN
BEGIN:VEVENT
UID:3841
DTSTAMP:20260422T091358
DTSTART:20181226T193000
DTEND:20181226T210000
SUMMARY:CONCERT CORAL ULLASTRELL - JazzNadal
LOCATION:C/ Josep Fornell, s/n 08231 Ullastrell
METHOD:PUBLISH
X-WR-CALNAME:ullastrell@ullastrell.cat
X-WR-TIMEZONE:Europe/Madrid
DESCRIPTION:La Coral d'Ullastrell us convida a venir al Concert de Sant Esteve, que enguany estarà acompanyat de músics amb bateria, baix i piano.

Un concert que no us podeu perdre!

Entrades: 5€ (numerades) - venda anticipada a la Biblioteca per les tardes i el mateix dia del concert de 12h. a 13h. i de 18:30h. fins a l'inici del concert

URI:https://www.ullastrell.cat/actualitat/agenda/concert-coral-ullastrell-jazznadal.html
CLASS:PUBLIC
END:VEVENT
END:VCALENDAR
