BEGIN:VCALENDAR
VERSION:2.0
CALSCALE:GREGORIAN
PRODID:-//Diputació de Barcelona//DibaCMS//EN
BEGIN:VEVENT
UID:3842
DTSTAMP:20260422T045602
DTSTART:20181218T000000
DTEND:20181218T000000
SUMMARY:XERRADA SEGURETAT - Mossos d'Esquadra
LOCATION:
METHOD:PUBLISH
X-WR-CALNAME:ullastrell@ullastrell.cat
X-WR-TIMEZONE:Europe/Madrid
DESCRIPTION:
URI:https://www.ullastrell.cat/actualitat/agenda/xerrada-seguretat-mossos-desquadra.html
CLASS:PUBLIC
END:VEVENT
END:VCALENDAR
