BEGIN:VCALENDAR
VERSION:2.0
CALSCALE:GREGORIAN
PRODID:-//Diputació de Barcelona//DibaCMS//EN
BEGIN:VEVENT
UID:3843
DTSTAMP:20260422T120131
DTSTART:20181216T183000
DTEND:20181216T183000
SUMMARY:QUINTO
LOCATION:C/Josep Fornell s/n  08231 Ullastrell
METHOD:PUBLISH
X-WR-CALNAME:ullastrell@ullastrell.cat
X-WR-TIMEZONE:Europe/Madrid
DESCRIPTION:Tradicional joc de Nadal

 

Org. Geganters d'Ullastrell

URI:https://www.ullastrell.cat/actualitat/agenda/3843-quinto.html
CLASS:PUBLIC
END:VEVENT
END:VCALENDAR
