BEGIN:VCALENDAR
VERSION:2.0
CALSCALE:GREGORIAN
PRODID:-//Diputació de Barcelona//DibaCMS//EN
BEGIN:VEVENT
UID:3845
DTSTAMP:20260422T091436
DTSTART:20181218T190000
DTEND:20181218T200000
SUMMARY:Consells de Seguretat al domicili
LOCATION:
METHOD:PUBLISH
X-WR-CALNAME:ullastrell@ullastrell.cat
X-WR-TIMEZONE:Europe/Madrid
DESCRIPTION:La policia de la Generalitat - Mossos d'Esquadra us convoquen a una sessió informativa sobre consells de seguretat al seu domicili

URI:https://www.ullastrell.cat/actualitat/agenda/3845-consells-de-seguretat-al-domicili.html
CLASS:PUBLIC
END:VEVENT
END:VCALENDAR
