BEGIN:VCALENDAR
VERSION:2.0
CALSCALE:GREGORIAN
PRODID:-//Diputació de Barcelona//DibaCMS//EN
BEGIN:VEVENT
UID:3847
DTSTAMP:20260422T132821
DTSTART:20181219T200000
DTEND:20181219T210000
SUMMARY:Ple extraordinari urgent
LOCATION:
METHOD:PUBLISH
X-WR-CALNAME:ullastrell@ullastrell.cat
X-WR-TIMEZONE:Europe/Madrid
DESCRIPTION:Tipus de convocatòria: Extraordinària urgent
Data i hora: 19 / de desembre / 2018 a les 20:00
Lloc. Sala de Plens

URI:https://www.ullastrell.cat/actualitat/agenda/3847-ple-extraordinari-urgent.html
CLASS:PUBLIC
END:VEVENT
END:VCALENDAR
