BEGIN:VCALENDAR
VERSION:2.0
CALSCALE:GREGORIAN
PRODID:-//Diputació de Barcelona//DibaCMS//EN
BEGIN:VEVENT
UID:3851
DTSTAMP:20260422T062323
DTSTART:20181222T213000
DTEND:20181222T213000
SUMMARY:QUINTO
LOCATION:C/Josep Fornell s/n  08231 Ullastrell
METHOD:PUBLISH
X-WR-CALNAME:ullastrell@ullastrell.cat
X-WR-TIMEZONE:Europe/Madrid
DESCRIPTION:Joc tradicional de Nadal

Org. Geganters d'Ullastrell

URI:https://www.ullastrell.cat/actualitat/agenda/3851-quinto.html
CLASS:PUBLIC
END:VEVENT
END:VCALENDAR
