BEGIN:VCALENDAR
VERSION:2.0
CALSCALE:GREGORIAN
PRODID:-//Diputació de Barcelona//DibaCMS//EN
BEGIN:VEVENT
UID:3855
DTSTAMP:20260422T091305
DTSTART:20181226T103000
DTEND:20181226T103000
SUMMARY:39ª Cursa de Muntanya EL BOLET - 18è Memorial Robert Colilles
LOCATION:
METHOD:PUBLISH
X-WR-CALNAME:ullastrell@ullastrell.cat
X-WR-TIMEZONE:Europe/Madrid
DESCRIPTION:L'autèntica cursa de Sant Esteve se celebra a Ullastrell!!!

Apunteu-vos a fer El Bolet una tradició que ja arriba a la 39ª edició.

Org. Grup de Muntanya

URI:https://www.ullastrell.cat/actualitat/agenda/39a-cursa-de-muntanya-el-bolet-18e-memorial-robert-colilles.html
CLASS:PUBLIC
END:VEVENT
END:VCALENDAR
