BEGIN:VCALENDAR
VERSION:2.0
CALSCALE:GREGORIAN
PRODID:-//Diputació de Barcelona//DibaCMS//EN
BEGIN:VEVENT
UID:3862
DTSTAMP:20260422T175506
DTSTART:20190105T110000
DTEND:20190105T123000
SUMMARY:Vine a fer els Esquellots
LOCATION:
METHOD:PUBLISH
X-WR-CALNAME:ullastrell@ullastrell.cat
X-WR-TIMEZONE:Europe/Madrid
DESCRIPTION:Un any mñes, seguint la tradició, farem uns esquellots ben sorollosos per a que els reis no s'oblidin de passar per Ullastrell

URI:https://www.ullastrell.cat/actualitat/agenda/vine-a-fer-els-esquellots.html
CLASS:PUBLIC
END:VEVENT
END:VCALENDAR
