BEGIN:VCALENDAR
VERSION:2.0
CALSCALE:GREGORIAN
PRODID:-//Diputació de Barcelona//DibaCMS//EN
BEGIN:VEVENT
UID:3863
DTSTAMP:20260422T091550
DTSTART:20190105T190000
DTEND:20190105T220000
SUMMARY:Rebuda a SSMM Els Reis Mags de l'Orient i entrega de cartes
LOCATION:
METHOD:PUBLISH
X-WR-CALNAME:ullastrell@ullastrell.cat
X-WR-TIMEZONE:Europe/Madrid
DESCRIPTION:Vine a rebre i a portar la carta als reis! :) 

URI:https://www.ullastrell.cat/actualitat/agenda/rebuda-a-ssmm-els-reis-mags-de-lorient-i-entrega-de-cartes.html
CLASS:PUBLIC
END:VEVENT
END:VCALENDAR
