BEGIN:VCALENDAR
VERSION:2.0
CALSCALE:GREGORIAN
PRODID:-//Diputació de Barcelona//DibaCMS//EN
BEGIN:VEVENT
UID:3868
DTSTAMP:20260422T112151
DTSTART:20190120T000000
DTEND:20190120T055900
SUMMARY:VIII Fira de l'Oli i l'Oliva (Mirar programació per altres activitats)
LOCATION:de la plaça Joan Montmany al C/ Serra 
METHOD:PUBLISH
X-WR-CALNAME:ullastrell@ullastrell.cat
X-WR-TIMEZONE:Europe/Madrid
DESCRIPTION:Mirar programació per altres activitats

URI:https://www.ullastrell.cat/actualitat/agenda/viii-fira-de-loli-i-loliva-mirar-programacio-per-altres-activitats.html
CLASS:PUBLIC
END:VEVENT
END:VCALENDAR
