BEGIN:VCALENDAR
VERSION:2.0
CALSCALE:GREGORIAN
PRODID:-//Diputació de Barcelona//DibaCMS//EN
BEGIN:VEVENT
UID:3869
DTSTAMP:20260422T091502
DTSTART:20190129T123000
DTEND:20190129T140000
SUMMARY:Taller de Lactància (quinzenal)
LOCATION:C/ Josep Fornell, s/n 08231 Ullastrell
METHOD:PUBLISH
X-WR-CALNAME:ullastrell@ullastrell.cat
X-WR-TIMEZONE:Europe/Madrid
DESCRIPTION:Taller de Lactància (quinzenal)

URI:https://www.ullastrell.cat/actualitat/agenda/3869-taller-de-lactancia-quinzenal.html
CLASS:PUBLIC
END:VEVENT
END:VCALENDAR
