BEGIN:VCALENDAR
VERSION:2.0
CALSCALE:GREGORIAN
PRODID:-//Diputació de Barcelona//DibaCMS//EN
BEGIN:VEVENT
UID:3871
DTSTAMP:20260422T174606
DTSTART:20190210T183000
DTEND:20190210T000000
SUMMARY:MOSTRA DE TEATRE: Qui te por de Virginia Wolf
LOCATION:C/ Josep Fornell, s/n 08231 Ullastrell
METHOD:PUBLISH
X-WR-CALNAME:ullastrell@ullastrell.cat
X-WR-TIMEZONE:Europe/Madrid
DESCRIPTION:Obra de teatre inclosa a la XXXª MOSTRA DE TREATRE - MEMORIAL ROSER ANGLADA

Organitza: GATU

URI:https://www.ullastrell.cat/actualitat/agenda/mostra-de-teatre-qui-te-por-de-virginia-wolf.html
CLASS:PUBLIC
END:VEVENT
END:VCALENDAR
