BEGIN:VCALENDAR
VERSION:2.0
CALSCALE:GREGORIAN
PRODID:-//Diputació de Barcelona//DibaCMS//EN
BEGIN:VEVENT
UID:3873
DTSTAMP:20260422T105209
DTSTART:20190226T123000
DTEND:20190226T140000
SUMMARY:Taller de Lactància (quinzenal)
LOCATION:C/ Josep Fornell, s/n 08231 Ullastrell
METHOD:PUBLISH
X-WR-CALNAME:ullastrell@ullastrell.cat
X-WR-TIMEZONE:Europe/Madrid
DESCRIPTION:Obert a totes les mares lactants, conduït per la infermera pediàtrica Ester Guerrero

Organitza: CAP Ullastrell i Regidoria de Salut



URI:https://www.ullastrell.cat/actualitat/agenda/3873-taller-de-lactancia-quinzenal.html
CLASS:PUBLIC
END:VEVENT
END:VCALENDAR
