BEGIN:VCALENDAR
VERSION:2.0
CALSCALE:GREGORIAN
PRODID:-//Diputació de Barcelona//DibaCMS//EN
BEGIN:VEVENT
UID:3878
DTSTAMP:20260422T062832
DTSTART:20190118T153000
DTEND:20190118T160000
SUMMARY:Ple extraordinari urgent 
LOCATION:
METHOD:PUBLISH
X-WR-CALNAME:ullastrell@ullastrell.cat
X-WR-TIMEZONE:Europe/Madrid
DESCRIPTION:Tipus de convocatòria: Extraordinària urgent
Data i hora: 18 / de gener / 2019 a les 15:30
Lloc: Sala de Plens
 

URI:https://www.ullastrell.cat/actualitat/agenda/ple-extraordinari-urgent-.html
CLASS:PUBLIC
END:VEVENT
END:VCALENDAR
