BEGIN:VCALENDAR
VERSION:2.0
CALSCALE:GREGORIAN
PRODID:-//Diputació de Barcelona//DibaCMS//EN
BEGIN:VEVENT
UID:3881
DTSTAMP:20260422T110448
DTSTART:20190118T203000
DTEND:20190118T220000
SUMMARY:Inauguració i tast d'Oli
LOCATION:
METHOD:PUBLISH
X-WR-CALNAME:ullastrell@ullastrell.cat
X-WR-TIMEZONE:Europe/Madrid
DESCRIPTION:Inauguració, presentació del logotip de l'oliva becaruda i IV Concurs de tast d'Oli dels productors locals d'Ullastrell

URI:https://www.ullastrell.cat/actualitat/agenda/inauguracio-i-tast-doli.html
CLASS:PUBLIC
END:VEVENT
END:VCALENDAR
