BEGIN:VCALENDAR
VERSION:2.0
CALSCALE:GREGORIAN
PRODID:-//Diputació de Barcelona//DibaCMS//EN
BEGIN:VEVENT
UID:3889
DTSTAMP:20260422T154745
DTSTART:20190209T170000
DTEND:20190209T203000
SUMMARY:Donació de Sang
LOCATION:C/ Josep Fornell, s/n 08231 Ullastrell
METHOD:PUBLISH
X-WR-CALNAME:ullastrell@ullastrell.cat
X-WR-TIMEZONE:Europe/Madrid
DESCRIPTION:Dona el millor de tu: dona sang!

 

URI:https://www.ullastrell.cat/actualitat/agenda/3889-donacio-de-sang.html
CLASS:PUBLIC
END:VEVENT
END:VCALENDAR
