BEGIN:VCALENDAR
VERSION:2.0
CALSCALE:GREGORIAN
PRODID:-//Diputació de Barcelona//DibaCMS//EN
BEGIN:VEVENT
UID:3908
DTSTAMP:20260422T165448
DTSTART:20190212T180000
DTEND:20190212T200000
SUMMARY:Presentació Club de Lectura amb Margarida Aritzeta
LOCATION:C/ Josep Fornell, s/n 08231 Ullastrell
METHOD:PUBLISH
X-WR-CALNAME:ullastrell@ullastrell.cat
X-WR-TIMEZONE:Europe/Madrid
DESCRIPTION:S'inicia el Club de Lectura on tothom hi és convidat, anirà a càrrec de l'escriptora Margarida Aritzeta.

Us hi esperem!

URI:https://www.ullastrell.cat/actualitat/agenda/presentacio-club-de-lectura-amb-margarida-aritzeta.html
CLASS:PUBLIC
END:VEVENT
END:VCALENDAR
