BEGIN:VCALENDAR
VERSION:2.0
CALSCALE:GREGORIAN
PRODID:-//Diputació de Barcelona//DibaCMS//EN
BEGIN:VEVENT
UID:3909
DTSTAMP:20260422T124308
DTSTART:20190213T170000
DTEND:20190213T190000
SUMMARY:Conte va conte ve... amb Albert Quintana
LOCATION:C/ Josep Fornell, s/n 08231 Ullastrell
METHOD:PUBLISH
X-WR-CALNAME:ullastrell@ullastrell.cat
X-WR-TIMEZONE:Europe/Madrid
DESCRIPTION:Primer "Conte va, conte ve..." de l'any amb ALBERT QUINTANA i els seus contes de Carnestoltes!

Si voleu començar a escalfar motors per aquesta festa tan boja i divertida, us hi esperem!

URI:https://www.ullastrell.cat/actualitat/agenda/conte-va-conte-ve-amb-albert-quintana.html
CLASS:PUBLIC
END:VEVENT
END:VCALENDAR
