BEGIN:VCALENDAR
VERSION:2.0
CALSCALE:GREGORIAN
PRODID:-//Diputació de Barcelona//DibaCMS//EN
BEGIN:VEVENT
UID:3910
DTSTAMP:20260422T123758
DTSTART:20190214T200000
DTEND:20190214T210000
SUMMARY:Fundació MSD: Xerrada a càrrec de Sergi Mingote 
LOCATION:C/ Josep Fornell, s/n 08231 Ullastrell
METHOD:PUBLISH
X-WR-CALNAME:ullastrell@ullastrell.cat
X-WR-TIMEZONE:Europe/Madrid
DESCRIPTION:La Fundació MSD us convida a escoltar la xerrada "72 dies al Límit" de l'alpinista Sergi Mingote

Entrada amb donatiu voluntari destinat íntegrament a la Fundació MSD, per la recerca i investigació d'aquesta malaltia minoritària.

URI:https://www.ullastrell.cat/actualitat/agenda/fundacio-msd-xerrada-a-carrec-de-sergi-mingote-.html
CLASS:PUBLIC
END:VEVENT
END:VCALENDAR
