BEGIN:VCALENDAR
VERSION:2.0
CALSCALE:GREGORIAN
PRODID:-//Diputació de Barcelona//DibaCMS//EN
BEGIN:VEVENT
UID:3911
DTSTAMP:20260422T062128
DTSTART:20190201T000000
DTEND:20190203T235900
SUMMARY:Carnestoltes.
LOCATION:
METHOD:PUBLISH
X-WR-CALNAME:ullastrell@ullastrell.cat
X-WR-TIMEZONE:Europe/Madrid
DESCRIPTION:
URI:https://www.ullastrell.cat/actualitat/agenda/3911-carnestoltes.html
CLASS:PUBLIC
END:VEVENT
END:VCALENDAR
