BEGIN:VCALENDAR
VERSION:2.0
CALSCALE:GREGORIAN
PRODID:-//Diputació de Barcelona//DibaCMS//EN
BEGIN:VEVENT
UID:3914
DTSTAMP:20260422T032509
DTSTART:20190312T123000
DTEND:20190312T140000
SUMMARY:Taller de Lactancia (Quincenal)
LOCATION:
METHOD:PUBLISH
X-WR-CALNAME:ullastrell@ullastrell.cat
X-WR-TIMEZONE:Europe/Madrid
DESCRIPTION:Obert a totes les mares lactants, conduït per la infermera pediàtrica Ester Guerrero

 

Org: CAP Ullastrell i Regidoria de Salut



URI:https://www.ullastrell.cat/actualitat/agenda/taller-de-lactancia-quincenal.html
CLASS:PUBLIC
END:VEVENT
END:VCALENDAR
