BEGIN:VCALENDAR
VERSION:2.0
CALSCALE:GREGORIAN
PRODID:-//Diputació de Barcelona//DibaCMS//EN
BEGIN:VEVENT
UID:3916
DTSTAMP:20260422T032559
DTSTART:20190323T120000
DTEND:20190323T235900
SUMMARY:II Fira de la Cervesa Artesana d'Ullastrell
LOCATION:Plaça de les Escoles. 
METHOD:PUBLISH
X-WR-CALNAME:ullastrell@ullastrell.cat
X-WR-TIMEZONE:Europe/Madrid
DESCRIPTION:Amb activitats, concerts i cerveses.

URI:https://www.ullastrell.cat/actualitat/agenda/ii-fira-de-la-cervesa-artesana-dullastrell.html
CLASS:PUBLIC
END:VEVENT
END:VCALENDAR
