BEGIN:VCALENDAR
VERSION:2.0
CALSCALE:GREGORIAN
PRODID:-//Diputació de Barcelona//DibaCMS//EN
BEGIN:VEVENT
UID:3917
DTSTAMP:20260422T032412
DTSTART:20190324T100000
DTEND:20190324T130000
SUMMARY:Cursa de muntanya -La Serralavella-
LOCATION:
METHOD:PUBLISH
X-WR-CALNAME:ullastrell@ullastrell.cat
X-WR-TIMEZONE:Europe/Madrid
DESCRIPTION:T’agrada córrer? Cursa 10 km per corriols i camins d’ Ullastrell (per a majors de 16 anys)

T’agrada caminar?  Caminada 4,5 km per camins d’ Ullastrell (recorregut no apte per a cadires ni cotxets amb rodes)

URI:https://www.ullastrell.cat/actualitat/agenda/cursa-de-muntanya-la-serralavella-.html
CLASS:PUBLIC
END:VEVENT
END:VCALENDAR
