BEGIN:VCALENDAR
VERSION:2.0
CALSCALE:GREGORIAN
PRODID:-//Diputació de Barcelona//DibaCMS//EN
BEGIN:VEVENT
UID:3918
DTSTAMP:20260422T061415
DTSTART:20190324T183000
DTEND:20190324T203000
SUMMARY:30ª MOSTRA DE TEATRE: Losers
LOCATION:C/ Josep Fornell, s/n 08231 Ullastrell
METHOD:PUBLISH
X-WR-CALNAME:ullastrell@ullastrell.cat
X-WR-TIMEZONE:Europe/Madrid
DESCRIPTION:30ª Mostra de Teatre - Memorial Roser Anglada

Obra de teatre programada dins la Mostra.

Organtiza: GATU

 



URI:https://www.ullastrell.cat/actualitat/agenda/30a-mostra-de-teatre-losers.html
CLASS:PUBLIC
END:VEVENT
END:VCALENDAR
