BEGIN:VCALENDAR
VERSION:2.0
CALSCALE:GREGORIAN
PRODID:-//Diputació de Barcelona//DibaCMS//EN
BEGIN:VEVENT
UID:3919
DTSTAMP:20260422T191203
DTSTART:20190326T123000
DTEND:20190326T140000
SUMMARY:Taller de Lactancia
LOCATION:Altell del Casal Cultural 
METHOD:PUBLISH
X-WR-CALNAME:ullastrell@ullastrell.cat
X-WR-TIMEZONE:Europe/Madrid
DESCRIPTION:Obert a totes les mares lactants, conduït per la infermera pediàtrica Ester Guerrero

 

Org: CAP Ullastrell i Regidoria de Salut



URI:https://www.ullastrell.cat/actualitat/agenda/3919-taller-de-lactancia.html
CLASS:PUBLIC
END:VEVENT
END:VCALENDAR
