BEGIN:VCALENDAR
VERSION:2.0
CALSCALE:GREGORIAN
PRODID:-//Diputació de Barcelona//DibaCMS//EN
BEGIN:VEVENT
UID:3921
DTSTAMP:20260420T222001
DTSTART:20190331T090000
DTEND:20190331T160000
SUMMARY:Fira de Serralavella
LOCATION:Al Carrer Serra. 
METHOD:PUBLISH
X-WR-CALNAME:ullastrell@ullastrell.cat
X-WR-TIMEZONE:Europe/Madrid
DESCRIPTION:VIVª Fira de Serralavella i Quaresma

 

URI:https://www.ullastrell.cat/actualitat/agenda/3921-fira-de-serralavella.html
CLASS:PUBLIC
END:VEVENT
END:VCALENDAR
