BEGIN:VCALENDAR
VERSION:2.0
CALSCALE:GREGORIAN
PRODID:-//Diputació de Barcelona//DibaCMS//EN
BEGIN:VEVENT
UID:3965
DTSTAMP:20260422T174736
DTSTART:20190301T094500
DTEND:20190301T104500
SUMMARY:Rua de carnestoltes
LOCATION:
METHOD:PUBLISH
X-WR-CALNAME:ullastrell@ullastrell.cat
X-WR-TIMEZONE:Europe/Madrid
DESCRIPTION:De l'escolaSerralavella i escola bressol el cucut pels carrers del poble.

URI:https://www.ullastrell.cat/actualitat/agenda/rua-de-carnestoltes.html
CLASS:PUBLIC
END:VEVENT
END:VCALENDAR
