BEGIN:VCALENDAR
VERSION:2.0
CALSCALE:GREGORIAN
PRODID:-//Diputació de Barcelona//DibaCMS//EN
BEGIN:VEVENT
UID:3967
DTSTAMP:20260422T111133
DTSTART:20190303T183000
DTEND:20190303T193000
SUMMARY:Festival solidari "Per carnaval, l'artista local"
LOCATION:
METHOD:PUBLISH
X-WR-CALNAME:ullastrell@ullastrell.cat
X-WR-TIMEZONE:Europe/Madrid
DESCRIPTION:Un any més torna l'espectacle organitzat per Ullastrell solidari

URI:https://www.ullastrell.cat/actualitat/agenda/festival-solidari-per-carnaval-lartista-local.html
CLASS:PUBLIC
END:VEVENT
END:VCALENDAR
