BEGIN:VCALENDAR
VERSION:2.0
CALSCALE:GREGORIAN
PRODID:-//Diputació de Barcelona//DibaCMS//EN
BEGIN:VEVENT
UID:3971
DTSTAMP:20260422T120053
DTSTART:20190308T113000
DTEND:20190308T160000
SUMMARY:Taller de pancartes
LOCATION:
METHOD:PUBLISH
X-WR-CALNAME:ullastrell@ullastrell.cat
X-WR-TIMEZONE:Europe/Madrid
DESCRIPTION:A les 11:30 i a les 16:00. Porta un pal per a tu i cartrons, retuladors, ...

URI:https://www.ullastrell.cat/actualitat/agenda/taller-de-pancartes.html
CLASS:PUBLIC
END:VEVENT
END:VCALENDAR
