BEGIN:VCALENDAR
VERSION:2.0
CALSCALE:GREGORIAN
PRODID:-//Diputació de Barcelona//DibaCMS//EN
BEGIN:VEVENT
UID:3973
DTSTAMP:20260422T045705
DTSTART:20190313T170000
DTEND:20190313T183000
SUMMARY:Construcció i decoració d'una cabana de lectura
LOCATION:
METHOD:PUBLISH
X-WR-CALNAME:ullastrell@ullastrell.cat
X-WR-TIMEZONE:Europe/Madrid
DESCRIPTION:Vine a ajudar-nos a decorar la cabana del bibliobús

URI:https://www.ullastrell.cat/actualitat/agenda/construccio-i-decoracio-duna-cabana-de-lectura.html
CLASS:PUBLIC
END:VEVENT
END:VCALENDAR
