BEGIN:VCALENDAR
VERSION:2.0
CALSCALE:GREGORIAN
PRODID:-//Diputació de Barcelona//DibaCMS//EN
BEGIN:VEVENT
UID:3985
DTSTAMP:20260422T091153
DTSTART:20190327T160000
DTEND:20190327T180000
SUMMARY:Avui és la Serralavella - Inici de les festes!
LOCATION:
METHOD:PUBLISH
X-WR-CALNAME:ullastrell@ullastrell.cat
X-WR-TIMEZONE:Europe/Madrid
DESCRIPTION:Consulta el programa de les festes a www.serralavella.cat

URI:https://www.ullastrell.cat/actualitat/agenda/avui-es-la-serralavella-inici-de-les-festes.html
CLASS:PUBLIC
END:VEVENT
END:VCALENDAR
