BEGIN:VCALENDAR
VERSION:2.0
CALSCALE:GREGORIAN
PRODID:-//Diputació de Barcelona//DibaCMS//EN
BEGIN:VEVENT
UID:3987
DTSTAMP:20260422T152518
DTSTART:20190328T170000
DTEND:20190328T200000
SUMMARY:L'hora del conte: La Vella Quaresma
LOCATION:
METHOD:PUBLISH
X-WR-CALNAME:ullastrell@ullastrell.cat
X-WR-TIMEZONE:Europe/Madrid
DESCRIPTION:Consulta el programa de les festes a www.serralavella.cat



URI:https://www.ullastrell.cat/actualitat/agenda/lhora-del-conte-la-vella-quaresma.html
CLASS:PUBLIC
END:VEVENT
END:VCALENDAR
