BEGIN:VCALENDAR
VERSION:2.0
CALSCALE:GREGORIAN
PRODID:-//Diputació de Barcelona//DibaCMS//EN
BEGIN:VEVENT
UID:3988
DTSTAMP:20260422T045735
DTSTART:20190329T200000
DTEND:20190329T210000
SUMMARY:XIIè concurs de cuina de quaresma
LOCATION:
METHOD:PUBLISH
X-WR-CALNAME:ullastrell@ullastrell.cat
X-WR-TIMEZONE:Europe/Madrid
DESCRIPTION:Consulta el programa de les festes a www.serralavella.cat



URI:https://www.ullastrell.cat/actualitat/agenda/xiie-concurs-de-cuina-de-quaresma.html
CLASS:PUBLIC
END:VEVENT
END:VCALENDAR
