BEGIN:VCALENDAR
VERSION:2.0
CALSCALE:GREGORIAN
PRODID:-//Diputació de Barcelona//DibaCMS//EN
BEGIN:VEVENT
UID:3989
DTSTAMP:20260422T062818
DTSTART:20190325T200000
DTEND:20190325T210000
SUMMARY:Ple extraordinari urgent
LOCATION:
METHOD:PUBLISH
X-WR-CALNAME:ullastrell@ullastrell.cat
X-WR-TIMEZONE:Europe/Madrid
DESCRIPTION:Segueix-lo a través del canal de youtube de l'Ajuntament

URI:https://www.ullastrell.cat/actualitat/agenda/3989-ple-extraordinari-urgent.html
CLASS:PUBLIC
END:VEVENT
END:VCALENDAR
