BEGIN:VCALENDAR
VERSION:2.0
CALSCALE:GREGORIAN
PRODID:-//Diputació de Barcelona//DibaCMS//EN
BEGIN:VEVENT
UID:3993
DTSTAMP:20260422T091701
DTSTART:20190331T090000
DTEND:20190331T170000
SUMMARY:Festes de Serralavella
LOCATION:
METHOD:PUBLISH
X-WR-CALNAME:ullastrell@ullastrell.cat
X-WR-TIMEZONE:Europe/Madrid
DESCRIPTION:
El dia esta ben atapeït amb diversos actes. Consulta'ls amb tot detall al fitxer adjunt o a serralavella.cat




URI:https://www.ullastrell.cat/actualitat/agenda/3993-festes-de-serralavella.html
CLASS:PUBLIC
END:VEVENT
END:VCALENDAR
