BEGIN:VCALENDAR
VERSION:2.0
CALSCALE:GREGORIAN
PRODID:-//Diputació de Barcelona//DibaCMS//EN
BEGIN:VEVENT
UID:3995
DTSTAMP:20260422T103500
DTSTART:20190408T190000
DTEND:20190408T210000
SUMMARY:Taller-Xerrada: Superar l'ansietat 
LOCATION:C/ Josep Fornell, s/n 08231 Ullastrell
METHOD:PUBLISH
X-WR-CALNAME:ullastrell@ullastrell.cat
X-WR-TIMEZONE:Europe/Madrid
DESCRIPTION:Descobreix els passos per conèixer un camí cap a la calma.

A càrrec de la psicòloga i terapeuta energètica Trinitat Soler Turu

Podeu reservar plaça al tel: 669.94.06.74  o al mail trinitat.soler.turu@gmail.com

URI:https://www.ullastrell.cat/actualitat/agenda/taller-xerrada-superar-lansietat-.html
CLASS:PUBLIC
END:VEVENT
END:VCALENDAR
