BEGIN:VCALENDAR
VERSION:2.0
CALSCALE:GREGORIAN
PRODID:-//Diputació de Barcelona//DibaCMS//EN
BEGIN:VEVENT
UID:3996
DTSTAMP:20260422T175114
DTSTART:20190410T170000
DTEND:20190410T175000
SUMMARY:Conte va conte ve: Contes dins d'una ampolla amb Santi Rovira
LOCATION:C/ Josep Fornell, s/n 08231 Ullastrell
METHOD:PUBLISH
X-WR-CALNAME:ullastrell@ullastrell.cat
X-WR-TIMEZONE:Europe/Madrid
DESCRIPTION:Públic recomenat: +4anys

URI:https://www.ullastrell.cat/actualitat/agenda/conte-va-conte-ve-contes-dins-duna-ampolla-amb-santi-rovira.html
CLASS:PUBLIC
END:VEVENT
END:VCALENDAR
