BEGIN:VCALENDAR
VERSION:2.0
CALSCALE:GREGORIAN
PRODID:-//Diputació de Barcelona//DibaCMS//EN
BEGIN:VEVENT
UID:3997
DTSTAMP:20260422T032337
DTSTART:20190412T090000
DTEND:20190412T170000
SUMMARY:Festa Cultural de l'escola Serralavella
LOCATION:
METHOD:PUBLISH
X-WR-CALNAME:ullastrell@ullastrell.cat
X-WR-TIMEZONE:Europe/Madrid
DESCRIPTION:
URI:https://www.ullastrell.cat/actualitat/agenda/festa-cultural-de-lescola-serralavella.html
CLASS:PUBLIC
END:VEVENT
END:VCALENDAR
