BEGIN:VCALENDAR
VERSION:2.0
CALSCALE:GREGORIAN
PRODID:-//Diputació de Barcelona//DibaCMS//EN
BEGIN:VEVENT
UID:4003
DTSTAMP:20260422T032305
DTSTART:20190503T190000
DTEND:20190503T210000
SUMMARY:Taller - Xerrada: Mobilitat internacional per a joves +15 anys
LOCATION:Plaça de les escoles, 1 08231 Ullastrell
METHOD:PUBLISH
X-WR-CALNAME:ullastrell@ullastrell.cat
X-WR-TIMEZONE:Europe/Madrid
DESCRIPTION:Xerrada informativa sobre oportunitats de mobilitat a l'estranger per a joves

Estades d'estiu per a joves

Voluntariat internacional de curta o llarga durada

URI:https://www.ullastrell.cat/actualitat/agenda/taller-xerrada-mobilitat-internacional-per-a-joves-15-anys.html
CLASS:PUBLIC
END:VEVENT
END:VCALENDAR
