BEGIN:VCALENDAR
VERSION:2.0
CALSCALE:GREGORIAN
PRODID:-//Diputació de Barcelona//DibaCMS//EN
BEGIN:VEVENT
UID:4006
DTSTAMP:20260422T062149
DTSTART:20190505T190000
DTEND:20190505T000000
SUMMARY:Teatre "Aquí no paga ni Déu"
LOCATION:C/ Josep Fornell, s/n 08231 Ullastrell
METHOD:PUBLISH
X-WR-CALNAME:ullastrell@ullastrell.cat
X-WR-TIMEZONE:Europe/Madrid
DESCRIPTION:Obra inclosa dins la Mostra de Teatre que organitza el GATU

URI:https://www.ullastrell.cat/actualitat/agenda/teatre-aqui-no-paga-ni-deu.html
CLASS:PUBLIC
END:VEVENT
END:VCALENDAR
