BEGIN:VCALENDAR
VERSION:2.0
CALSCALE:GREGORIAN
PRODID:-//Diputació de Barcelona//DibaCMS//EN
BEGIN:VEVENT
UID:4007
DTSTAMP:20260422T061818
DTSTART:20190508T170000
DTEND:20190508T174500
SUMMARY:Conte va conte ve: Princeses blaves i prínceps encantadors
LOCATION:C/ Josep Fornell, s/n 08231 Ullastrell
METHOD:PUBLISH
X-WR-CALNAME:ullastrell@ullastrell.cat
X-WR-TIMEZONE:Europe/Madrid
DESCRIPTION:Amb Lídia Clua

Públic recomenat: +4 anys

URI:https://www.ullastrell.cat/actualitat/agenda/conte-va-conte-ve-princeses-blaves-i-princeps-encantadors.html
CLASS:PUBLIC
END:VEVENT
END:VCALENDAR
