BEGIN:VCALENDAR
VERSION:2.0
CALSCALE:GREGORIAN
PRODID:-//Diputació de Barcelona//DibaCMS//EN
BEGIN:VEVENT
UID:4008
DTSTAMP:20260422T152421
DTSTART:20190407T110000
DTEND:20190407T120000
SUMMARY:Caminada benèfica amb cavalls i botifarrada final
LOCATION:
METHOD:PUBLISH
X-WR-CALNAME:ullastrell@ullastrell.cat
X-WR-TIMEZONE:Europe/Madrid
DESCRIPTION:Organitza SOM ALAIRE

URI:https://www.ullastrell.cat/actualitat/agenda/caminada-benefica-amb-cavalls-i-botifarrada-final.html
CLASS:PUBLIC
END:VEVENT
END:VCALENDAR
