BEGIN:VCALENDAR
VERSION:2.0
CALSCALE:GREGORIAN
PRODID:-//Diputació de Barcelona//DibaCMS//EN
BEGIN:VEVENT
UID:4013
DTSTAMP:20260421T213646
DTSTART:20190814T000000
DTEND:20190817T000000
SUMMARY:FESTA MAJOR
LOCATION:
METHOD:PUBLISH
X-WR-CALNAME:ullastrell@ullastrell.cat
X-WR-TIMEZONE:Europe/Madrid
DESCRIPTION:Del 14 al 17 d'agost

URI:https://www.ullastrell.cat/actualitat/agenda/4013-festa-major.html
CLASS:PUBLIC
END:VEVENT
END:VCALENDAR
