BEGIN:VCALENDAR
VERSION:2.0
CALSCALE:GREGORIAN
PRODID:-//Diputació de Barcelona//DibaCMS//EN
BEGIN:VEVENT
UID:4016
DTSTAMP:20260423T020128
DTSTART:20190405T000000
DTEND:20190405T000000
SUMMARY:Taller Lactància - quinzenal
LOCATION:C/ Josep Fornell, s/n 08231 Ullastrell
METHOD:PUBLISH
X-WR-CALNAME:ullastrell@ullastrell.cat
X-WR-TIMEZONE:Europe/Madrid
DESCRIPTION:
URI:https://www.ullastrell.cat/actualitat/agenda/4016-taller-lactancia-quinzenal.html
CLASS:PUBLIC
END:VEVENT
END:VCALENDAR
