BEGIN:VCALENDAR
VERSION:2.0
CALSCALE:GREGORIAN
PRODID:-//Diputació de Barcelona//DibaCMS//EN
BEGIN:VEVENT
UID:4018
DTSTAMP:20260422T103603
DTSTART:20190414T183000
DTEND:20190414T200000
SUMMARY:Musical "BRUNA" 
LOCATION:
METHOD:PUBLISH
X-WR-CALNAME:ullastrell@ullastrell.cat
X-WR-TIMEZONE:Europe/Madrid
DESCRIPTION:Organitza GATU

URI:https://www.ullastrell.cat/actualitat/agenda/4018-musical-bruna-.html
CLASS:PUBLIC
END:VEVENT
END:VCALENDAR
