BEGIN:VCALENDAR
VERSION:2.0
CALSCALE:GREGORIAN
PRODID:-//Diputació de Barcelona//DibaCMS//EN
BEGIN:VEVENT
UID:4019
DTSTAMP:20260422T062225
DTSTART:20190510T000000
DTEND:20190512T000000
SUMMARY:Fira Modernista de Terrassa
LOCATION:
METHOD:PUBLISH
X-WR-CALNAME:ullastrell@ullastrell.cat
X-WR-TIMEZONE:Europe/Madrid
DESCRIPTION:L'Ajuntament disposarà d'una parada informativa a la Raval de Montserrat.

Altres comerciants i entitats d'Ullastrell també estaran a diferents punts de la Fira Modernista, visiteu-los!

URI:https://www.ullastrell.cat/actualitat/agenda/4019-fira-modernista-de-terrassa.html
CLASS:PUBLIC
END:VEVENT
END:VCALENDAR
